BEGIN:VCALENDAR
VERSION:2.0
PRODID:icalendar-ruby
CALSCALE:GREGORIAN
METHOD:PUBLISH
BEGIN:VEVENT
DTSTAMP:20260425T133924Z
UID:48-1167026@pleasantview.tithelysetup5.com
DTSTART:20260509T170000Z
DTEND:20260509T180000Z
CLASS:PUBLIC
CREATED:20260424T101331
DESCRIPTION:Join us for a Ladies Brunch! \nThe event is free for all ladie
 s (aged 8 and up to 98).\nTo allow proper planning\, please register by te
 xting LADIES to 833-743-7608 by May 4th.\n \n 
LAST-MODIFIED:20260424T101331
LOCATION:
SUMMARY:Mother's Day Brunch for all Ladies (Even kids!)
URL;VALUE=URI:https://www.footprints.church/events/mothers-day-brunch-for-a
 ll-ladies-even-kids/2026-05-09
ATTACH;FILENAME=HappyMothersDayTulipsHD.jpg;FMTTYPE=image/jpeg:https://dq5p
 wpg1q8ru0.cloudfront.net/2026/04/24/17/13/31/7c24a367-f8ce-4d4d-ad5a-6693a
 dd3694e/HappyMothersDayTulipsHD.jpg
END:VEVENT
END:VCALENDAR
